BEGIN:VCALENDAR
VERSION:2.0
PRODID:SchoolNow
CALSCALE:GREGORIAN
BEGIN:VEVENT
UID:36debd88-06dd-11ec-835a-0a40d2df2d85
DTSTAMP:20210827T021931Z
SUMMARY:CDD Board Meeting - Feb. 2022
LOCATION:Concord Station Clubhouse\, 18636 Mentmore Blvd.\, Land O’Lakes 
 FL 34638
URL;VALUE=URI:https://www.concordstationcdd.com/calendar/2690791/cdd-board-
 meeting-feb-2022
DTSTART:20220210T150000Z
DTEND:20220210T170000Z
END:VEVENT
END:VCALENDAR
