BEGIN:VCALENDAR
VERSION:2.0
PRODID:SchoolNow
CALSCALE:GREGORIAN
BEGIN:VEVENT
UID:0466cd30-9557-11ef-bb8c-021459f6a7fb
DTSTAMP:20241028T180731Z
SUMMARY:CDD Board Meeting - Nov. 2024 (Cancelled) *****Rescheduled to Novem
 ber 20\, 2024*****
LOCATION:Concord Station Clubhouse\, 18636 Mentmore Blvd.\, Land O’Lakes 
 FL 34638
URL;VALUE=URI:https://www.concordstationcdd.com/calendar/6914665/cdd-board-
 meeting-nov-2024
DTSTART:20241114T150000Z
DTEND:20241114T170000Z
END:VEVENT
END:VCALENDAR
